BEGIN:VCALENDAR
VERSION:2.0
PRODID:-//AAPPG - ECPv6.15.20//NONSGML v1.0//EN
CALSCALE:GREGORIAN
METHOD:PUBLISH
X-WR-CALNAME:AAPPG
X-ORIGINAL-URL:https://aappg.org
X-WR-CALDESC:Eventos para AAPPG
REFRESH-INTERVAL;VALUE=DURATION:PT1H
X-Robots-Tag:noindex
X-PUBLISHED-TTL:PT1H
BEGIN:VTIMEZONE
TZID:America/Argentina/Buenos_Aires
BEGIN:STANDARD
TZOFFSETFROM:-0300
TZOFFSETTO:-0300
TZNAME:-03
DTSTART:20240101T000000
END:STANDARD
END:VTIMEZONE
BEGIN:VEVENT
DTSTART;TZID=America/Argentina/Buenos_Aires:20250305T110000
DTEND;TZID=America/Argentina/Buenos_Aires:20250326T130000
DTSTAMP:20260422T183602
CREATED:20250212T142626Z
LAST-MODIFIED:20250219T140611Z
UID:13249-1741172400-1742994000@aappg.org
SUMMARY:Seminario-Taller: "EL NUEVO MALESTAR EN LA CLÍNICA"
DESCRIPTION:EN MARZO INICIA \nSeminario-Taller: “El nuevo malestar en la clínica” \nDocente: Miguel Benasayag (Francia) \nTemática:\n1️⃣ Si hablamos de un «Nuevo malestar en la clínica»\, es por dos razones. La primera\, histórica\, es la que evoca el conocido texto de Freud «Malestar en la cultura»\, donde el fundador del psicoanálisis se da a la práctica de comprender la época para poder hacer clínica.\nPor otro lado\, porque en la crisis que nuestras sociedades atraviesan\, es imposible continuar nuestras prácticas clínicas como si la estructura social psíquica y antropológica de nuestros mundos no estuviera en plena\, masiva y en rápida mutación. \n2️⃣ ¿Hacia dónde va esta mutación? ¿Cómo podemos sin más\, dialogar con una IA? ¿Es un nuevo animismo? La pregunta es\, en todo cambio y más allá de la fascinación que produce\, «¿qué es lo que queda?».\nO\, como en el poema de Borges\, «algo se queda\, algo se queja…»\nEs urgente comprender ese algo\, porque de perderlo\, ya no sería un «cambio»\, sino un caos. \n  Miércoles 5\, 12\, 19\, 26 de Marzo. De 11 a 13 hs. (Argentina). Modalidad virtual (por Zoom) \nOrganiza: Área Científica\, coordinada por Norma Edelstein y Graciela Pan \n– ACTIVIDAD ARANCELADA \n Inscripción previa: secretaria@aappg.org.ar
URL:https://aappg.org/event/seminario-taller-el-nuevo-malestar-en-la-clinica/
ATTACH;FMTTYPE=image/jpeg:https://aappg.org/wp-content/uploads/2025/02/Seminario_Benasayag_Marzo2025.jpg
END:VEVENT
BEGIN:VEVENT
DTSTART;TZID=America/Argentina/Buenos_Aires:20250306T120000
DTEND;TZID=America/Argentina/Buenos_Aires:20250327T133000
DTSTAMP:20260422T183602
CREATED:20250116T191037Z
LAST-MODIFIED:20250116T191037Z
UID:13232-1741262400-1743082200@aappg.org
SUMMARY:Taller: «Entre la Literatura y el Psicoanálisis: la Escritura». El ensayo\, el caso clínico: reglas generales de escritura\, recursos literarios\, técnica\, estilo
DESCRIPTION:TALLER\n«Entre la Literatura y el Psicoanálisis: la Escritura». El ensayo\, el caso clínico: reglas generales de escritura\, recursos literarios\, técnica\, estiloDocente: LILIANA LEVY \n Días de cursada:  jueves de marzo: 6\, 13\, 20 y 27 \n Horario: de 12.00 a 13.30 hs. \n Modalidad: Virtual \nInformes e inscripción aquí  docencia@aappg.org.ar
URL:https://aappg.org/event/taller-entre-la-literatura-y-el-psicoanalisis-la-escritura-el-ensayo-el-caso-clinico-reglas-generales-de-escritura-recursos-literarios-tecnica-estilo/
ATTACH;FMTTYPE=image/jpeg:https://aappg.org/wp-content/uploads/2025/01/Taller_Levy_Marzo.jpg
END:VEVENT
BEGIN:VEVENT
DTSTART;TZID=America/Argentina/Buenos_Aires:20250311T120000
DTEND;TZID=America/Argentina/Buenos_Aires:20250325T140000
DTSTAMP:20260422T183602
CREATED:20250108T151442Z
LAST-MODIFIED:20250116T163724Z
UID:13202-1741694400-1742911200@aappg.org
SUMMARY:Seminario: «Introducción a cuatro conceptos fundamentales del Psicoanálisis Freud / Lacan. Una lectura vincular»
DESCRIPTION:SEMINARIO\n«Introducción a cuatro conceptos fundamentales del Psicoanálisis Freud / Lacan. Una lectura vincular»  \n Docentes: NÉLIDA DI RIENZO – SUSANA PALONSKY \n Fechas de dictado: martes 11\, 18 y 25 de marzo \n\n\n\n Horario: de 12.00 a 14 hs. \n  \n Valor del Seminario: Argentinos: $ 40.000 – Extranjeros: U$S40.- \n Modalidad: Virtual \n\n\nAbierta la inscripción a través de docencia@aappg.org.ar
URL:https://aappg.org/event/seminario-introduccion-a-los-cuatro-conceptos-fundamentales-del-psicoanalisis-freud-lacan-una-lectura-vincular/
ATTACH;FMTTYPE=image/jpeg:https://aappg.org/wp-content/uploads/2025/01/Seminario-Di-Rienzo-Palonsky_Marzo.jpg
END:VEVENT
BEGIN:VEVENT
DTSTART;TZID=America/Argentina/Buenos_Aires:20250314T120000
DTEND;TZID=America/Argentina/Buenos_Aires:20250314T130000
DTSTAMP:20260422T183602
CREATED:20250307T133315Z
LAST-MODIFIED:20250307T133451Z
UID:13328-1741953600-1741957200@aappg.org
SUMMARY:Posgrado en Psicoanálisis de las Configuraciones Vinculares (IPCV): Clases Abiertas/Informativas
DESCRIPTION:Seguimos organizando charlas abiertas e informativas sobre el Posgrado en Psicoanálisis de las Configuraciones Vinculares que iniciará en abril. Agendalas: Viernes 14 de marzo de 12 a 13 hs. Viernes 28 de marzo de 18 a 19 hs.Para participar de cualquiera de ellas\, te invitamos a ingresar al siguiente link:\nhttps://us06web.zoom.us/j/88270096231?pwd=1QerpIthUnzkylDakWsOUlpIemMatT.1 \ncon los siguientes datos de acceso:ID de reunión: 882 7009 6231Código de acceso: 488284¡Te esperamos! 
URL:https://aappg.org/event/posgrado-en-psicoanalisis-de-las-configuraciones-vinculares-ipcv-clases-abiertas-informativas/
ATTACH;FMTTYPE=image/jpeg:https://aappg.org/wp-content/uploads/2025/03/IPCV_Clases_abiertas_14-03-2025.jpg
END:VEVENT
BEGIN:VEVENT
DTSTART;TZID=America/Argentina/Buenos_Aires:20250327T140000
DTEND;TZID=America/Argentina/Buenos_Aires:20250724T160000
DTSTAMP:20260422T183602
CREATED:20250219T133707Z
LAST-MODIFIED:20250519T143256Z
UID:13288-1743084000-1753372800@aappg.org
SUMMARY:Seminario-Taller: "Deleuze y el Cine"
DESCRIPTION:  El 27 de marzo comienza el curso “Deleuze y el cine”\, el mismo analiza la relación entre pensamiento\, cine y filosofía\, a partir de la figura del filósofo francés.  \n  \n INICIO: JUEVES 27 DE MARZO DE 2025\n Días de cursada: 2º y 4º Jueves\nHorario: de 14.00 a 16.00 hs.\n Dictado por: Dra. María Laura Méndez\n Modalidad ONLINE \n  \n– ACTIVIDAD ARANCELADA \n Información e Inscripción en  docencia@aappg.org.ar
URL:https://aappg.org/event/seminario-taller-deleuze-y-el-cine/
ATTACH;FMTTYPE=image/jpeg:https://aappg.org/wp-content/uploads/2025/02/Seminario_Deleuze_Cine.jpg
END:VEVENT
BEGIN:VEVENT
DTSTART;TZID=America/Argentina/Buenos_Aires:20250328T120000
DTEND;TZID=America/Argentina/Buenos_Aires:20250328T134500
DTSTAMP:20260422T183602
CREATED:20250318T131323Z
LAST-MODIFIED:20250318T134834Z
UID:13355-1743163200-1743169500@aappg.org
SUMMARY:Comisión de Cultura: “Dibujos urgentes. Historia de una práctica documental”
DESCRIPTION:COMISIÓN DE CULTURA\nDisertación: “Dibujos urgentes. Historia de una práctica documental” \n Presenta: Eugenia Ana Bekeris\n Coordina: Mirta Kleinbort \n«Dibujos Urgentes» es un trabajo de registro documental que testimonia lo que acontece en los Juicios de Lesa Humanidad. Son dibujos en acción que se han convertido en una herramienta inédita de transmisión. Son urgentes porque son vertiginosos y necesarios ya que visibilizan las audiencias que la Justicia no permitió registrar para difundir públicamente. \n AGENDAR! Viernes 28 de marzo de 12 a 13:45 hs. \n Para participar\, ingresá a este enlace: \n Link: https://us06web.zoom.us/j/88270096231?pwd=1QerpIthUnzkylDakWsOUlpIemMatT.1 \n ID de reunión: 819 8512 9242\n Código de acceso: 224849 \n ACTIVIDAD ABIERTA A LA COMUNIDAD VÍA ZOOM
URL:https://aappg.org/event/comision-de-cultura-dibujos-urgentes-historia-de-una-practica-documental/
ATTACH;FMTTYPE=image/jpeg:https://aappg.org/wp-content/uploads/2025/03/Cultura_28-03-25.jpg
END:VEVENT
BEGIN:VEVENT
DTSTART;TZID=America/Argentina/Buenos_Aires:20250328T180000
DTEND;TZID=America/Argentina/Buenos_Aires:20250328T190000
DTSTAMP:20260422T183602
CREATED:20250328T155212Z
LAST-MODIFIED:20250328T155212Z
UID:13449-1743184800-1743188400@aappg.org
SUMMARY:Posgrado en Psicoanálisis de las Configuraciones Vinculares (IPCV): Clase Abierta/Informativa
DESCRIPTION:También este viernes 28 de marzo de 18 a 19 hs.\, brindaremos una nueva clase abierta e informativa sobre el Posgrado en Psicoanálisis de las Configuraciones Vinculares que iniciará en abril.Para participar\, te invitamos a ingresar al siguiente link:\nhttps://us06web.zoom.us/j/88270096231?pwd=1QerpIthUnzkylDakWsOUlpIemMatT.1 \ncon los siguientes datos de acceso:ID de reunión: 882 7009 6231Código de acceso: 488284¡Te esperamos para resolver todas tus consultas sobre esta propuesta de formación!
URL:https://aappg.org/event/posgrado-en-psicoanalisis-de-las-configuraciones-vinculares-ipcv-clase-abierta-informativa-5/
ATTACH;FMTTYPE=image/jpeg:https://aappg.org/wp-content/uploads/2025/03/IPCV_Clase_abierta_28-03-2025.jpg
END:VEVENT
END:VCALENDAR