BEGIN:VCALENDAR
VERSION:2.0
PRODID:-//AAPPG - ECPv6.15.20//NONSGML v1.0//EN
CALSCALE:GREGORIAN
METHOD:PUBLISH
X-WR-CALNAME:AAPPG
X-ORIGINAL-URL:https://aappg.org
X-WR-CALDESC:Eventos para AAPPG
REFRESH-INTERVAL;VALUE=DURATION:PT1H
X-Robots-Tag:noindex
X-PUBLISHED-TTL:PT1H
BEGIN:VTIMEZONE
TZID:America/Argentina/Buenos_Aires
BEGIN:STANDARD
TZOFFSETFROM:-0300
TZOFFSETTO:-0300
TZNAME:-03
DTSTART:20230101T000000
END:STANDARD
END:VTIMEZONE
BEGIN:VEVENT
DTSTART;TZID=America/Argentina/Buenos_Aires:20241101T120000
DTEND;TZID=America/Argentina/Buenos_Aires:20241101T134500
DTSTAMP:20260423T020455
CREATED:20241024T140806Z
LAST-MODIFIED:20241024T140806Z
UID:13107-1730462400-1730468700@aappg.org
SUMMARY:Ciclo Científico Pensando lo Vincular : “La transdisciplina en la perspectiva vincular”
DESCRIPTION:CICLO CIENTÍFICO PENSANDO LO VINCULAR\n“La transdisciplina en la perspectiva vincular” \nPresentación: María Laura Méndez\nCoordinación: Susana Matus\n \nAGENDAR: Viernes 1 de noviembre de 12:00 a 13:45 hs. \nPara participar\, ingresar al siguiente link:\n https://us02web.zoom.us/j/82167876643?pwd=9SaWEfoRD08d7GQebtHxjHRBnmSjEQ.1 \n ID de reunión: 821 6787 6643\n Código de acceso: 756386 \n– ACTIVIDAD ABIERTA A LA COMUNIDAD por ZOOM
URL:https://aappg.org/event/ciclo-cientifico-pensando-lo-vincular-la-transdisciplina-en-la-perspectiva-vincular/
ATTACH;FMTTYPE=image/jpeg:https://aappg.org/wp-content/uploads/2024/10/PLV_01-11-24.jpg
END:VEVENT
BEGIN:VEVENT
DTSTART;TZID=America/Argentina/Buenos_Aires:20241108T120000
DTEND;TZID=America/Argentina/Buenos_Aires:20241108T134500
DTSTAMP:20260423T020455
CREATED:20241107T132933Z
LAST-MODIFIED:20241107T132958Z
UID:13120-1731067200-1731073500@aappg.org
SUMMARY:Presentación de Libros en la AAPPG
DESCRIPTION:PRESENTACIÓN DE LIBROS:\n\n “ESCRIBIR EL PSICOANÁLISIS. Vivencia\, narración\, experiencia”\nAutor: Daniel Waisbrot\n Comentarios: Eduardo Müller “PAREJAS EN LA DECONSTRUCCION. 13 casos clínicos y un ensayo sobre el presente y el futuro”\nAutor: Carlos Pachuk\n Comentarios: Gloria Barros Mendilaharzu \nCoordinación: Nélida Di Rienzo \n¿Cuándo Viernes 8 de noviembre de 12 a 13:45 hs\n¿Dónde Formato híbrido: Presencial en la sede de nuestra Asociación: Lavalle 3584\, CABA y Virtual por Zoom \n Para participar en forma virtual\, ingresá a este link :https://us02web.zoom.us/j/87605782735?pwd=UROdLOfCSNd4yymC1kaTgHzVCFXO3i.1 \ncon los siguientes datos de acceso: ID de reunión: 876 0578 2735 Código de acceso: 188039 \n– ACTIVIDAD PRESENCIAL y VIRTUAL\, ABIERTA A LA COMUNIDAD
URL:https://aappg.org/event/presentacion-de-libros-en-la-aappg/
ATTACH;FMTTYPE=image/jpeg:https://aappg.org/wp-content/uploads/2024/11/Presentacion_Libros_08-11-24.jpg
END:VEVENT
BEGIN:VEVENT
DTSTART;TZID=America/Argentina/Buenos_Aires:20241115T120000
DTEND;TZID=America/Argentina/Buenos_Aires:20241115T134500
DTSTAMP:20260423T020455
CREATED:20241107T133455Z
LAST-MODIFIED:20241107T133455Z
UID:13123-1731672000-1731678300@aappg.org
SUMMARY:Ciclo Científico Pensando lo Vincular : “Prácticas del cuidado y afectaciones en tiempos violentos”
DESCRIPTION:CICLO CIENTÍFICO PENSANDO LO VINCULAR\n“Prácticas del cuidado y afectaciones en tiempos violentos” \nPresentación: Ana Berezin y Daniel Waisbrot\nCoordinación: Susana Matus\n \nAGENDAR: Viernes 15 de noviembre de 12:00 a 13:45 hs. \nPara participar\, ingresar al siguiente link:\n https://us02web.zoom.us/j/89401201650?pwd=wvwkbc2azleTdxdrFAkWQalES2dci1.1 \n ID de reunión: 894 0120 1650\n Código de acceso: 563297 \n– ACTIVIDAD ABIERTA A LA COMUNIDAD por ZOOM
URL:https://aappg.org/event/ciclo-cientifico-pensando-lo-vincular-practicas-del-cuidado-y-afectaciones-en-tiempos-violentos/
ATTACH;FMTTYPE=image/jpeg:https://aappg.org/wp-content/uploads/2024/11/PLV_15-11-24.jpg
END:VEVENT
BEGIN:VEVENT
DTSTART;TZID=America/Argentina/Buenos_Aires:20241122T120000
DTEND;TZID=America/Argentina/Buenos_Aires:20241122T134500
DTSTAMP:20260423T020455
CREATED:20241112T140542Z
LAST-MODIFIED:20241112T141132Z
UID:13139-1732276800-1732283100@aappg.org
SUMMARY:Comisión de Cultura: “Develar lo siniestro. Literatura y Psicoanálisis ante el abuso sexual en la infancia”
DESCRIPTION:COMISIÓN DE CULTURA Disertación: “Develar lo siniestro. Literatura y Psicoanálisis ante el abuso sexual en la infancia” \n\n\n\n\n\n Presentan: Virginia Feinmann (escritora) y Sara Moscona (psicoanalista)   Coordinan: Mirta Kleinbort y Liliana Levy  AGENDAR! Viernes 22 de noviembre de 12 a 13:45 hs. Para participar\, ingresá a este enlace:   Link: https://us02web.zoom.us/j/82224865963?pwd=2GmYbwnCyVNJwRsVtFaGQf1bg987k4.1  ID de reunión: 822 2486 5963  Código de acceso: 077399 \n\n ACTIVIDAD ABIERTA A LA COMUNIDAD VÍA ZOOM
URL:https://aappg.org/event/comision-de-cultura-develar-lo-siniestro-literatura-y-psicoanalisis-ante-el-abuso-sexual-en-la-infancia/
ATTACH;FMTTYPE=image/jpeg:https://aappg.org/wp-content/uploads/2024/11/Cultura_22-11-24.jpg
END:VEVENT
BEGIN:VEVENT
DTSTART;TZID=America/Argentina/Buenos_Aires:20241129T120000
DTEND;TZID=America/Argentina/Buenos_Aires:20241129T134500
DTSTAMP:20260423T020455
CREATED:20241107T151339Z
LAST-MODIFIED:20241107T151339Z
UID:13133-1732881600-1732887900@aappg.org
SUMMARY:Presentación de la Revista 2024 de la AAPPG: “Clínica del desasosiego en el pensamiento vincular. Interrogantes y afectaciones”
DESCRIPTION: Presentación de la Revista 2024 de la AAPPG: “Clínica del desasosiego en el pensamiento vincular. Interrogantes y afectaciones” La revista será presentada por la Comisión de Publicaciones: Silvia Luchessi Olaso\, Liliana Levy\, Ivana Mangiaterra\, Mariela Saraví \n Con comentarios a cargo de : Nélida Di Rienzo\, Silvia Gomel y Susana Sternbach Viernes 29 de noviembre\, de 12 a 13:45 hs.\, en modalidad virtual. Para participar\, te invitamos a ingresar al siguiente link:\nhttps://us02web.zoom.us/j/85260717228?pwd=3Dl6QdcaSbQpPM60iah2Wo8BDadOu0.1 \nCon estos datos de acceso: ID de reunión: 852 6071 7228 Código de acceso: 016832\n– ACTIVIDAD ABIERTA A LA COMUNIDAD\nAgendalo! Te esperamos!
URL:https://aappg.org/event/presentacion-de-la-revista-2024-de-la-aappg-clinica-del-desasosiego-en-el-pensamiento-vincular-interrogantes-y-afectaciones/
ATTACH;FMTTYPE=image/jpeg:https://aappg.org/wp-content/uploads/2024/11/Revista_2024_Presentacion.jpg
END:VEVENT
END:VCALENDAR