BEGIN:VCALENDAR
VERSION:2.0
PRODID:-//AAPPG - ECPv6.15.20//NONSGML v1.0//EN
CALSCALE:GREGORIAN
METHOD:PUBLISH
X-WR-CALNAME:AAPPG
X-ORIGINAL-URL:https://aappg.org
X-WR-CALDESC:Eventos para AAPPG
REFRESH-INTERVAL;VALUE=DURATION:PT1H
X-Robots-Tag:noindex
X-PUBLISHED-TTL:PT1H
BEGIN:VTIMEZONE
TZID:America/Argentina/Buenos_Aires
BEGIN:STANDARD
TZOFFSETFROM:-0300
TZOFFSETTO:-0300
TZNAME:-03
DTSTART:20210101T000000
END:STANDARD
END:VTIMEZONE
BEGIN:VEVENT
DTSTART;TZID=America/Argentina/Buenos_Aires:20220401T101500
DTEND;TZID=America/Argentina/Buenos_Aires:20221216T114500
DTSTAMP:20260422T183614
CREATED:20220304T171925Z
LAST-MODIFIED:20220321T165507Z
UID:10600-1648808100-1671191100@aappg.org
SUMMARY:Taller teórico clínico de Entre-Visión y Supervisión Grupal sobre materiales clínicos desde el Psicoanálisis Vincular: De la clínica a la articulación teórica
DESCRIPTION:INICIA\n“Taller teórico clínico de Entre-Visión y Supervisión Grupal sobre materiales clínicos desde el Psicoanálisis Vincular. De la clínica a la articulación teórica” \nDocente: Elina Aguiar \n Este taller\, íntegramente online\, inicia el VIERNES 1º DE ABRIL y se dictará de 10.15 a 11.45 hs.\, los 1º y 3º viernes de cada mes. \nIMPORTANTE:\n– Se otorgará certificado a partir de la asistencia a 8 talleres durante el año. \n– Si algún viernes cae feriado NO repondrá el taller otro viernes\, por ej. si existiera un 5to. \n– ACTIVIDAD ARANCELADA \nInformación e Inscripción en  docencia@aappg.org.ar
URL:https://aappg.org/event/taller-teorico-clinico-de-entre-vision-y-supervision-grupal-sobre-materiales-clinicos-desde-el-psicoanalisis-vincular-de-la-clinica-a-la-articulacion-teorica/
ATTACH;FMTTYPE=image/png:https://aappg.org/wp-content/uploads/2022/03/Taller_Entre-Vision_Aguiar.png
END:VEVENT
BEGIN:VEVENT
DTSTART;TZID=America/Argentina/Buenos_Aires:20220808T180000
DTEND;TZID=America/Argentina/Buenos_Aires:20221017T194500
DTSTAMP:20260422T183614
CREATED:20220621T165742Z
LAST-MODIFIED:20220624T130406Z
UID:10994-1659981600-1666035900@aappg.org
SUMMARY:Seminario: "Las familias hoy\, hacia la era pospatriarcal: géneros\, sexualidades y cuidados en deconstrucción"
DESCRIPTION:INICIA\nSeminario: «Las familias hoy\, hacia la era pospatriarcal: géneros\, sexualidades y cuidados en deconstrucción» \nDocentes: Marina Guiter – Sandra Rochel \n Lunes 8 y 22 de Agosto / 5 y 19 de Septiembre / 3 y 17 de Octubre de 18 a 19:45 hs. \n– ACTIVIDAD ARANCELADA \n Informe e inscripción: docencia@aappg.org.ar
URL:https://aappg.org/event/seminario-las-familias-hoy-hacia-la-era-pospatriarcal-generos-sexualidades-y-cuidados-en-deconstruccion/
ATTACH;FMTTYPE=image/jpeg:https://aappg.org/wp-content/uploads/2022/06/Seminario-Guiter-Rochel.jpg
END:VEVENT
BEGIN:VEVENT
DTSTART;TZID=America/Argentina/Buenos_Aires:20220905T090000
DTEND;TZID=America/Argentina/Buenos_Aires:20221011T170000
DTSTAMP:20260422T183614
CREATED:20220801T154329Z
LAST-MODIFIED:20220829T132705Z
UID:11167-1662368400-1665507600@aappg.org
SUMMARY:¡Convocatoria a Presentación de Trabajos Libres!: XXXIII Jornada de la AAPPG: "AFECTACIONES DE LA SUBJETIVIDAD. Virtualidad\, vínculos y transformaciones de nuestra clínica"
DESCRIPTION:📣NUEVAS FECHAS PARA LA PRESENTACIÓN DE TRABAJOS LIBRES❗️\nSe extiende el plazo de la convocatoria para presentar trabajos en el marco de la XXXIII Jornada de la AAPPG que se realizará en diciembre y cuya temática será «AFECTACIONES DE LA SUBJETIVIDAD. Virtualidad\, vínculos y transformaciones de nuestra clínica». \n⚠️ATENCIÓN:\n✔️ Fecha intención de trabajos libres: 5 de septiembre.\n✔️ Fecha límite de presentación de trabajos: 11 de octubre.\n✔️ Máximo 1 trabajo individual o grupal por persona.\n✔️ Más consultas: secretaria@aappg.org.ar \nEjes temáticos sobre los cuales trabajar:\n➡️ Clínica de pareja\n➡️ Clínica familiar\n➡️ Clínica grupal\n➡️ Clínica institucional y comunitaria\n➡️ Clínica individual\n➡️ Educación y Psicoanálisis \n🗨️💬 La XXXIII Jornada de la AAPPG\, que se realizará el Sábado 3 de diciembre de 9 a 17.30 hs. en modalidad virtual\, contará también con diálogos interdisciplinarios como también convocatorias a otras instituciones. \n🔰 Comité organizador: Comisión Directiva. \n❓ Consultas: secretaria@aappg.org.ar
URL:https://aappg.org/event/convocatoria-a-presentacion-de-trabajos-libres-xxxiii-jornada-de-la-aappg-afectaciones-de-la-subjetividad-virtualidad-vinculos-y-transformaciones-de-nuestra-clinica/
ATTACH;FMTTYPE=image/png:https://aappg.org/wp-content/uploads/2022/07/XXXIII-Jornada-AAPPG_02.png
END:VEVENT
BEGIN:VEVENT
DTSTART;TZID=America/Argentina/Buenos_Aires:20220907T090000
DTEND;TZID=America/Argentina/Buenos_Aires:20221019T110000
DTSTAMP:20260422T183614
CREATED:20220801T150910Z
LAST-MODIFIED:20221021T131702Z
UID:11157-1662541200-1666177200@aappg.org
SUMMARY:Seminario-Taller: “Una Clínica que no cura. ¿Desde dónde se escucha el sufrimiento?”\, Miguel Benasayag (Francia)
DESCRIPTION:INICIA \n🔴 SEMINARIO–TALLER: “Una Clínica que no cura. ¿Desde dónde se escucha el sufrimiento?” \nDocente: Miguel Benasayag (Francia) \nAbordará:\n1️⃣ ¿Cómo recibir\, atender\, escuchar\, sin querer «curar»?\n2️⃣ ¿Cuáles son los «no posibles» que hoy pueden estructurar nuestro mundo en plena metamorfosis?\n3️⃣ ¿Cómo pensar y actuar dentro de la complejidad? \n  Miércoles 7 y 21 de Septiembre\, 5 y 19 de Octubre de 9 a 11 hs. (Argentina)\, vía Zoom. \n🔴 Organiza: Área Científica coordinada por Norma Edelstein y Graciela Pan \n– ACTIVIDAD ARANCELADA \n Informe e inscripción: secretaria@aappg.org.ar
URL:https://aappg.org/event/seminario-taller-una-clinica-que-no-cura-desde-donde-se-escucha-el-sufrimiento-miguel-benasayag-francia/
ATTACH;FMTTYPE=image/png:https://aappg.org/wp-content/uploads/2022/08/Seminario-Taller-2022-Miguel-Benasayag.png
END:VEVENT
BEGIN:VEVENT
DTSTART;TZID=America/Argentina/Buenos_Aires:20221013T120000
DTEND;TZID=America/Argentina/Buenos_Aires:20221013T133000
DTSTAMP:20260422T183614
CREATED:20221004T153806Z
LAST-MODIFIED:20221004T153806Z
UID:11339-1665662400-1665667800@aappg.org
SUMMARY:Plenario Abierto del Ateneo de Pareja: "Significaciones imaginarias sobre homoparentalidad. Homoparentalidad y producción de Subjetividad"
DESCRIPTION:ATENEO DE PAREJA\nPlenario Abierto: «Significaciones imaginarias sobre homoparentalidad. Homoparentalidad y producción de Subjetividad» \nPresenta: Roberta Gorischnik \nQuienes deseen participar\, pueden hacerlo a través de este link y datos de acceso:\n➡️ https://us02web.zoom.us/j/88661851802?pwd=MGpJUXNDdVpvTzBtTnVJZlJoS2k0dz09\n➡️ ID de reunión: 982 8459 4576\n➡️ Código de acceso: 874099 \nCuándo❓\n✔️Jueves 13 de octubre\n✔️De 12 a 13:30 hs.\n✔️Actividad vía Zoom\n✔️ Coordinan: Cielo Rolfo y Mirta Kleinbort \n– ACTIVIDAD ABIERTA  Y GRATUITA A LA COMUNIDAD
URL:https://aappg.org/event/plenario-abierto-del-ateneo-de-pareja-significaciones-imaginarias-sobre-homoparentalidad-homoparentalidad-y-produccion-de-subjetividad/
ATTACH;FMTTYPE=image/jpeg:https://aappg.org/wp-content/uploads/2022/10/AteneoPareja_13-10-22.jpg
END:VEVENT
BEGIN:VEVENT
DTSTART;TZID=America/Argentina/Buenos_Aires:20221014T120000
DTEND;TZID=America/Argentina/Buenos_Aires:20221014T140000
DTSTAMP:20260422T183614
CREATED:20221005T165230Z
LAST-MODIFIED:20221005T170634Z
UID:11379-1665748800-1665756000@aappg.org
SUMMARY:Conferencia Científica: "Transferencias. Amor\, deseo\, presencia\, implicación del analista"
DESCRIPTION:CONFERENCIA CIENTÍFICA \n💢 «Transferencias. Amor\, deseo\, presencia\, implicación del analista»\n\nPresentan: Rubén Dimarco – Carlos Guzzetti \n💻📱Quienes deseen participar\, pueden hacerlo a través de este link y datos de acceso:\n➡️ https://us02web.zoom.us/j/85089123551?pwd=eVZoMVhvTWNBNHBDVjVhUkRPQjdsZz09\n➡️ ID de reunión: ID de reunión: 850 8912 3551\n➡️ Código de acceso: 653926 \nCuándo❓\n✔️ Viernes 14 de octubre\n✔️ De 12 a 14 hs.\n✔️Actividad vía Zoom\n✔️ Coordina: Nélida Di Rienzo \n– ACTIVIDAD ABIERTA  Y GRATUITA A LA COMUNIDAD
URL:https://aappg.org/event/conferencia-cientifica-transferencias-amor-deseo-presencia-implicacion-del-analista/
ATTACH;FMTTYPE=image/jpeg:https://aappg.org/wp-content/uploads/2022/10/Dimarco-Guzzetti_14-10-22.jpg
END:VEVENT
BEGIN:VEVENT
DTSTART;TZID=America/Argentina/Buenos_Aires:20221018T100000
DTEND;TZID=America/Argentina/Buenos_Aires:20221018T113000
DTSTAMP:20260422T183614
CREATED:20221012T163630Z
LAST-MODIFIED:20221012T164621Z
UID:11397-1666087200-1666092600@aappg.org
SUMMARY:Plenario Abierto: "Clínica\, poder y dominio en los vínculos"
DESCRIPTION:CENTRO ASISTENCIAL “ANDRÉE CUISSARD”\nPlenario Abierto: «Clínica\, poder y dominio en los vínculos»  \nPresenta: Lic. María Cristina Rojas \n➡️ Quienes deseen participar\, pueden hacerlo a través de este link y datos de acceso:\nhttps://us02web.zoom.us/j/81310385700?pwd=TC8rK2NDMkphQnJ4YTF6ZG4rTmV2QT09\n🔵 ID de reunión: 813 1038 5700\n🔵 Código de acceso: 040602\n\nCuándo❓\n✔️Martes 18 de octubre\n✔️De 10 a 11:30 hs.\n✔️Actividad vía Zoom\n✔️ Coordina: Lic. Susana Palonsky \n– ACTIVIDAD ABIERTA  Y GRATUITA A LA COMUNIDAD
URL:https://aappg.org/event/plenario-abierto-clinica-poder-y-dominio-en-los-vinculos/
ATTACH;FMTTYPE=image/png:https://aappg.org/wp-content/uploads/2022/10/PlenarioAbierto_18-10-22.png
END:VEVENT
BEGIN:VEVENT
DTSTART;TZID=America/Argentina/Buenos_Aires:20221021T120000
DTEND;TZID=America/Argentina/Buenos_Aires:20221021T134500
DTSTAMP:20260422T183614
CREATED:20221017T132357Z
LAST-MODIFIED:20221017T132357Z
UID:11414-1666353600-1666359900@aappg.org
SUMMARY:Ciclo Científico Pensando lo Vincular: "Cuerpos: visibilidad en la clínica"
DESCRIPTION:CICLO “PENSANDO LO VINCULAR” \n «Cuerpos: visibilidad en la clínica» \n Presentan: Raquel Bozzolo – Silvia Bolster\n     Coordina: Susana Matus \n Para quienes estén interesados en participar\, podrán hacerlo ingresando a este link:\nhttps://us02web.zoom.us/j/88902584455?pwd=cHovUnRxaHE2VlUvVmNZdkpxMW41dz09 \nDatos de acceso:\n ID de reunión: 889 0258 4455\n Código de acceso: 481650 \n Agendar: Viernes 21 de octubre de 12 a 13:45 hs. vía Zoom. \n– ACTIVIDAD ABIERTA A LA COMUNIDAD
URL:https://aappg.org/event/ciclo-cientifico-pensando-lo-vincular-cuerpos-visibilidad-en-la-clinica/
ATTACH;FMTTYPE=image/png:https://aappg.org/wp-content/uploads/2022/10/PLV_21-10-22_Cuerpos.png
END:VEVENT
BEGIN:VEVENT
DTSTART;TZID=America/Argentina/Buenos_Aires:20221028T120000
DTEND;TZID=America/Argentina/Buenos_Aires:20221028T140000
DTSTAMP:20260422T183614
CREATED:20221018T141101Z
LAST-MODIFIED:20221021T130334Z
UID:11440-1666958400-1666965600@aappg.org
SUMMARY:Comisión de Cultura: "Arte y Genocidio. Testimonio: representación del horror"
DESCRIPTION:COMISIÓN DE CULTURA \n«Arte y Genocidio. Testimonio: representación del horror» \nInvitada: Eugenia Ana Békeris (Artista visual) \nCoordinan: Martha Satne y Mirta Kleinbort \n🔴 Viernes 28 de octubre 2022\, de 12 a 14 hs. \n\n Para participar sólo hay que ingresar al siguiente link :https://us02web.zoom.us/j/88675451404?pwd=RjlEajVncWVqcVBTejRmUTFrS0ZTdz09 \n\n\n\n Con los siguientes datos de acceso: \n\n\n\n ID de reunión: 886 7545 1404 \n\n\n\n Código de acceso: 911336 \n\n– ACTIVIDAD GRATUITA ABIERTA A LA COMUNIDAD. Vía Zoom
URL:https://aappg.org/event/comision-de-cultura-arte-y-genocidio-testimonio-representacion-del-horror/
ATTACH;FMTTYPE=image/jpeg:https://aappg.org/wp-content/uploads/2022/10/Cultura_Bekeris_28-10-22.jpg
END:VEVENT
END:VCALENDAR