BEGIN:VCALENDAR
VERSION:2.0
PRODID:-//AAPPG - ECPv6.15.20//NONSGML v1.0//EN
CALSCALE:GREGORIAN
METHOD:PUBLISH
X-ORIGINAL-URL:https://aappg.org
X-WR-CALDESC:Eventos para AAPPG
REFRESH-INTERVAL;VALUE=DURATION:PT1H
X-Robots-Tag:noindex
X-PUBLISHED-TTL:PT1H
BEGIN:VTIMEZONE
TZID:America/Argentina/Buenos_Aires
BEGIN:STANDARD
TZOFFSETFROM:-0300
TZOFFSETTO:-0300
TZNAME:-03
DTSTART:20210101T000000
END:STANDARD
END:VTIMEZONE
BEGIN:VEVENT
DTSTART;TZID=America/Argentina/Buenos_Aires:20220401T101500
DTEND;TZID=America/Argentina/Buenos_Aires:20221216T114500
DTSTAMP:20260422T070559
CREATED:20220304T171925Z
LAST-MODIFIED:20220321T165507Z
UID:10600-1648808100-1671191100@aappg.org
SUMMARY:Taller teórico clínico de Entre-Visión y Supervisión Grupal sobre materiales clínicos desde el Psicoanálisis Vincular: De la clínica a la articulación teórica
DESCRIPTION:INICIA\n“Taller teórico clínico de Entre-Visión y Supervisión Grupal sobre materiales clínicos desde el Psicoanálisis Vincular. De la clínica a la articulación teórica” \nDocente: Elina Aguiar \n Este taller\, íntegramente online\, inicia el VIERNES 1º DE ABRIL y se dictará de 10.15 a 11.45 hs.\, los 1º y 3º viernes de cada mes. \nIMPORTANTE:\n– Se otorgará certificado a partir de la asistencia a 8 talleres durante el año. \n– Si algún viernes cae feriado NO repondrá el taller otro viernes\, por ej. si existiera un 5to. \n– ACTIVIDAD ARANCELADA \nInformación e Inscripción en  docencia@aappg.org.ar
URL:https://aappg.org/event/taller-teorico-clinico-de-entre-vision-y-supervision-grupal-sobre-materiales-clinicos-desde-el-psicoanalisis-vincular-de-la-clinica-a-la-articulacion-teorica/
ATTACH;FMTTYPE=image/png:https://aappg.org/wp-content/uploads/2022/03/Taller_Entre-Vision_Aguiar.png
END:VEVENT
BEGIN:VEVENT
DTSTART;TZID=America/Argentina/Buenos_Aires:20220808T180000
DTEND;TZID=America/Argentina/Buenos_Aires:20221017T194500
DTSTAMP:20260422T070559
CREATED:20220621T165742Z
LAST-MODIFIED:20220624T130406Z
UID:10994-1659981600-1666035900@aappg.org
SUMMARY:Seminario: "Las familias hoy\, hacia la era pospatriarcal: géneros\, sexualidades y cuidados en deconstrucción"
DESCRIPTION:INICIA\nSeminario: «Las familias hoy\, hacia la era pospatriarcal: géneros\, sexualidades y cuidados en deconstrucción» \nDocentes: Marina Guiter – Sandra Rochel \n Lunes 8 y 22 de Agosto / 5 y 19 de Septiembre / 3 y 17 de Octubre de 18 a 19:45 hs. \n– ACTIVIDAD ARANCELADA \n Informe e inscripción: docencia@aappg.org.ar
URL:https://aappg.org/event/seminario-las-familias-hoy-hacia-la-era-pospatriarcal-generos-sexualidades-y-cuidados-en-deconstruccion/
ATTACH;FMTTYPE=image/jpeg:https://aappg.org/wp-content/uploads/2022/06/Seminario-Guiter-Rochel.jpg
END:VEVENT
BEGIN:VEVENT
DTSTART;TZID=America/Argentina/Buenos_Aires:20220902T100000
DTEND;TZID=America/Argentina/Buenos_Aires:20220903T200000
DTSTAMP:20260422T070559
CREATED:20220823T135749Z
LAST-MODIFIED:20220823T135749Z
UID:11243-1662112800-1662235200@aappg.org
SUMMARY:Programa de Actualización de la Perspectiva Vincular en Psicoanálisis: “TEORÍA DE LO GRUPAL. LOS GRUPOS”
DESCRIPTION:🔜 Sigue en Septiembre el Programa de Actualización: «Parejas\, Familias\, Grupos e Instituciones: Perspectiva Vincular en Psicoanálisis»\, que es parte de la Oferta de Posgrado 2022 que propone la Facultad de Psicología de la UBA y que está a cargo de la AAPPG. \n⚡️ PRÓXIMO CURSO DE POSGRADO⚡️ : «TEORÍA DE LO GRUPAL. LOS GRUPOS»\n▪️ El trabajo grupal como dispositivo para intervenir.\n▪️ Aprender/aprehender grupo haciendo grupo.\n▪️ Herramientas para los diferentes dispositivos.\n▪️ Laboratorio sobre las afectaciones del profesional \n📆 Viernes 2 y Sábado 3 de Septiembre de 10.00 a 14.00 y de 16.00 a 20.00 hs. \n🔰 Docentes titulares: Lic. Leonel Sicardi – Lic. Diana Blumenthal\n     Docentes colaboradores: Lic. Susana Palonsky – Lic. Irene Roel – Lic. Liliana Levy \n⭕ Dirección del programa: Clara Sztein y Nélida Di Rienzo \nℹ️ Más información en:\nhttp://www.psi.uba.ar/posgrado.php?var=posgrado2022%2Factualizacion%2Fperspectiva_vincular%2Findex.php\no en docencia@aappg.org.ar
URL:https://aappg.org/event/programa-de-actualizacion-de-la-perspectiva-vincular-en-psicoanalisis-teoria-de-lo-grupal-los-grupos/
ATTACH;FMTTYPE=image/png:https://aappg.org/wp-content/uploads/2022/08/ProgramaActualizacion_UBA_Grupos_02-10-22.png
END:VEVENT
BEGIN:VEVENT
DTSTART;TZID=America/Argentina/Buenos_Aires:20220902T120000
DTEND;TZID=America/Argentina/Buenos_Aires:20220902T134500
DTSTAMP:20260422T070559
CREATED:20220826T134138Z
LAST-MODIFIED:20220826T134138Z
UID:11255-1662120000-1662126300@aappg.org
SUMMARY:Ciclo Científico Pensando lo Vincular:  “Crueldad y Autodestrucción en los vínculos contemporáneos”
DESCRIPTION:CICLO «PENSANDO LO VINCULAR» \n💢 «Crueldad y Autodestrucción en los vínculos contemporáneos» \n🔰 Presentación: Ana Berezin – Susana Sternbach\n     Coordinación: Susana Matus \n💻📱 Para quienes estén interesados en participar\, podrán hacerlo ingresando a este link:\nhttps://us02web.zoom.us/j/89610960479?pwd=N1RWN1o1U2RUcHJJVFdtM1lsR2JxQT09 \nDatos de acceso:\n🔸 ID de reunión: 896 1096 0479\n🔹 Código de acceso: 958494 \n🔔 Agendar: Viernes 2 de septiembre de 12:00 a 13:45 hs. Vía Zoom \n– ACTIVIDAD ABIERTA A LA COMUNIDAD
URL:https://aappg.org/event/ciclo-cientifico-pensando-lo-vincular-crueldad-y-autodestruccion-en-los-vinculos-contemporaneos/
ATTACH;FMTTYPE=image/png:https://aappg.org/wp-content/uploads/2022/08/PLV_02-09-22.png
END:VEVENT
BEGIN:VEVENT
DTSTART;TZID=America/Argentina/Buenos_Aires:20220905T090000
DTEND;TZID=America/Argentina/Buenos_Aires:20221011T170000
DTSTAMP:20260422T070559
CREATED:20220801T154329Z
LAST-MODIFIED:20220829T132705Z
UID:11167-1662368400-1665507600@aappg.org
SUMMARY:¡Convocatoria a Presentación de Trabajos Libres!: XXXIII Jornada de la AAPPG: "AFECTACIONES DE LA SUBJETIVIDAD. Virtualidad\, vínculos y transformaciones de nuestra clínica"
DESCRIPTION:📣NUEVAS FECHAS PARA LA PRESENTACIÓN DE TRABAJOS LIBRES❗️\nSe extiende el plazo de la convocatoria para presentar trabajos en el marco de la XXXIII Jornada de la AAPPG que se realizará en diciembre y cuya temática será «AFECTACIONES DE LA SUBJETIVIDAD. Virtualidad\, vínculos y transformaciones de nuestra clínica». \n⚠️ATENCIÓN:\n✔️ Fecha intención de trabajos libres: 5 de septiembre.\n✔️ Fecha límite de presentación de trabajos: 11 de octubre.\n✔️ Máximo 1 trabajo individual o grupal por persona.\n✔️ Más consultas: secretaria@aappg.org.ar \nEjes temáticos sobre los cuales trabajar:\n➡️ Clínica de pareja\n➡️ Clínica familiar\n➡️ Clínica grupal\n➡️ Clínica institucional y comunitaria\n➡️ Clínica individual\n➡️ Educación y Psicoanálisis \n🗨️💬 La XXXIII Jornada de la AAPPG\, que se realizará el Sábado 3 de diciembre de 9 a 17.30 hs. en modalidad virtual\, contará también con diálogos interdisciplinarios como también convocatorias a otras instituciones. \n🔰 Comité organizador: Comisión Directiva. \n❓ Consultas: secretaria@aappg.org.ar
URL:https://aappg.org/event/convocatoria-a-presentacion-de-trabajos-libres-xxxiii-jornada-de-la-aappg-afectaciones-de-la-subjetividad-virtualidad-vinculos-y-transformaciones-de-nuestra-clinica/
ATTACH;FMTTYPE=image/png:https://aappg.org/wp-content/uploads/2022/07/XXXIII-Jornada-AAPPG_02.png
END:VEVENT
BEGIN:VEVENT
DTSTART;TZID=America/Argentina/Buenos_Aires:20220907T090000
DTEND;TZID=America/Argentina/Buenos_Aires:20221019T110000
DTSTAMP:20260422T070559
CREATED:20220801T150910Z
LAST-MODIFIED:20221021T131702Z
UID:11157-1662541200-1666177200@aappg.org
SUMMARY:Seminario-Taller: “Una Clínica que no cura. ¿Desde dónde se escucha el sufrimiento?”\, Miguel Benasayag (Francia)
DESCRIPTION:INICIA \n🔴 SEMINARIO–TALLER: “Una Clínica que no cura. ¿Desde dónde se escucha el sufrimiento?” \nDocente: Miguel Benasayag (Francia) \nAbordará:\n1️⃣ ¿Cómo recibir\, atender\, escuchar\, sin querer «curar»?\n2️⃣ ¿Cuáles son los «no posibles» que hoy pueden estructurar nuestro mundo en plena metamorfosis?\n3️⃣ ¿Cómo pensar y actuar dentro de la complejidad? \n  Miércoles 7 y 21 de Septiembre\, 5 y 19 de Octubre de 9 a 11 hs. (Argentina)\, vía Zoom. \n🔴 Organiza: Área Científica coordinada por Norma Edelstein y Graciela Pan \n– ACTIVIDAD ARANCELADA \n Informe e inscripción: secretaria@aappg.org.ar
URL:https://aappg.org/event/seminario-taller-una-clinica-que-no-cura-desde-donde-se-escucha-el-sufrimiento-miguel-benasayag-francia/
ATTACH;FMTTYPE=image/png:https://aappg.org/wp-content/uploads/2022/08/Seminario-Taller-2022-Miguel-Benasayag.png
END:VEVENT
BEGIN:VEVENT
DTSTART;TZID=America/Argentina/Buenos_Aires:20220908T120000
DTEND;TZID=America/Argentina/Buenos_Aires:20220908T133000
DTSTAMP:20260422T070559
CREATED:20220901T133331Z
LAST-MODIFIED:20220901T133454Z
UID:11275-1662638400-1662643800@aappg.org
SUMMARY:Plenario Abierto del Ateneo de Pareja: “Parejas Adolescentes. Nuevos escenarios\, viejos temores”
DESCRIPTION:ATENEO DE PAREJA\nPlenario Abierto: “Parejas Adolescentes. Nuevos escenarios\, viejos temores” \nPresenta: Marcelo Cao \nQuienes deseen participar\, pueden hacerlo a través de este link y datos de acceso:\n➡️ https://us02web.zoom.us/j/88661851802?pwd=MGpJUXNDdVpvTzBtTnVJZlJoS2k0dz09\n➡️ ID de reunión: 886 6185 1802\n➡️ Código de acceso: 051364 \nCuándo❓\n✔️Jueves 8 de septiembre\n✔️De 12 a 13:30 hs.\n✔️Actividad vía Zoom\n✔️ Coordinan: Cielo Rolfo y Mirta Kleinbort \n– ACTIVIDAD ABIERTA  Y GRATUITA A LA COMUNIDAD
URL:https://aappg.org/event/plenario-abierto-del-ateneo-de-pareja-parejas-adolescentes-nuevos-escenarios-viejos-temores/
ATTACH;FMTTYPE=image/png:https://aappg.org/wp-content/uploads/2022/09/PlenarioAbierto_08-09-22.png
END:VEVENT
BEGIN:VEVENT
DTSTART;TZID=America/Argentina/Buenos_Aires:20220923T120000
DTEND;TZID=America/Argentina/Buenos_Aires:20220923T140000
DTSTAMP:20260422T070559
CREATED:20220907T194040Z
LAST-MODIFIED:20220907T194040Z
UID:11292-1663934400-1663941600@aappg.org
SUMMARY:Comisión de Cultura: Entrevista a Ana María Shua: “Escribir\, ¿es un oficio?"
DESCRIPTION:COMISIÓN DE CULTURA\nEntrevista a Ana María Shua: “Escribir\, ¿es un oficio?» \nPresenta: Liliana Levy\nCoordinan: Martha Satne y Mirta Kleinbort \n🔴 Viernes 23 de septiembre 2022\, de 12 a 14 hs. \n– ACTIVIDAD GRATUITA ABIERTA A LA COMUNIDAD. Vía Zoom
URL:https://aappg.org/event/comision-de-cultura-entrevista-a-ana-maria-shua-escribir-es-un-oficio/
ATTACH;FMTTYPE=image/jpeg:https://aappg.org/wp-content/uploads/2022/09/Cultura_Shua_23-09-22.jpg
END:VEVENT
BEGIN:VEVENT
DTSTART;TZID=America/Argentina/Buenos_Aires:20220930T110000
DTEND;TZID=America/Argentina/Buenos_Aires:20220930T130000
DTSTAMP:20260422T070559
CREATED:20220907T192454Z
LAST-MODIFIED:20220913T143924Z
UID:11283-1664535600-1664542800@aappg.org
SUMMARY:Diálogo: “Desertamos. Pensar y actuar en la complejidad” – Franco “Bifo” Berardi y Miguel Benasayag
DESCRIPTION:ÁREA CIENTÍFICA \n  Diálogo: «Desertamos. Pensar y actuar en la complejidad» \nPresentación: Franco «Bifo» Berardi (Italia) y Miguel Benasayag (Francia)\n\n  viernes 30 de septiembre vía Zoom. \nTemas:\n ¿Qué significa la palabra “resignación”? ¿Cómo pensar una posible contraofensiva frente a la destrucción del neoliberalismo sin caer en las viejas teorías del poder? ¿Puede la deserción volverse en una estrategia política?\n ¿Qué deberíamos hacer cuando la acción no puede ser eficaz? Si los humanos no somos los sujetos cartesianos separados de la naturaleza\, ¿cómo pensar nuestro actuar dentro del conjunto de situaciones donde hay vectores interactuando?\n ¿Qué es la complejidad? Su relación con el antropoceno. ¿Cómo podemos interpretar la depresión cuando se vuelve un fenómeno epidémico?\n ¿Cómo concebir un actuar que no quede entrampado en el dispositivo colonial del «SER»\, como lo llama Rodolfo Kusch? \n\n\n\n\n\n\n\n Agendar:\n\n\n Viernes 30 de septiembre 2022\n 11 hs. (Argentina) / 16 hs. (Europa)\n\n Coordinan: Norma Edelstein – Graciela Pan \n ACTIVIDAD LIBRE Y GRATUITA \n Informe e inscripción previa: secretaria@aappg.org.ar
URL:https://aappg.org/event/dialogo-desertamos-pensar-y-actuar-en-la-complejidad-franco-bifo-berardi-y-miguel-benasayag/
ATTACH;FMTTYPE=image/jpeg:https://aappg.org/wp-content/uploads/2022/09/Berardi-Benasayag_30-09-22_smail.jpg
END:VEVENT
END:VCALENDAR