BEGIN:VCALENDAR
VERSION:2.0
PRODID:-//AAPPG - ECPv6.15.20//NONSGML v1.0//EN
CALSCALE:GREGORIAN
METHOD:PUBLISH
X-ORIGINAL-URL:https://aappg.org
X-WR-CALDESC:Eventos para AAPPG
REFRESH-INTERVAL;VALUE=DURATION:PT1H
X-Robots-Tag:noindex
X-PUBLISHED-TTL:PT1H
BEGIN:VTIMEZONE
TZID:America/Argentina/Buenos_Aires
BEGIN:STANDARD
TZOFFSETFROM:-0300
TZOFFSETTO:-0300
TZNAME:-03
DTSTART:20230101T000000
END:STANDARD
END:VTIMEZONE
BEGIN:VEVENT
DTSTART;TZID=America/Argentina/Buenos_Aires:20240503T120000
DTEND;TZID=America/Argentina/Buenos_Aires:20240503T134500
DTSTAMP:20260425T012129
CREATED:20240430T151509Z
LAST-MODIFIED:20240430T151509Z
UID:12591-1714737600-1714743900@aappg.org
SUMMARY:Ciclo Científico Pensando Lo Vincular: “Fundamentos filosóficos de la vincularidad: William James\, Henri Bergson\, Gabriel Tarde”
DESCRIPTION:CICLO CIENTÍFICO PENSANDO LO VINCULAR\n“Fundamentos filosóficos de la vincularidad: William James\, Henri Bergson\, Gabriel Tarde” \nInvitados: Pablo Farneda – María Laura Méndez\nCoordinación: Mercedes García Santillán\nPresentación del Ciclo: Dolores Sarobe \n📆 AGENDAR: Viernes 3 de mayo de 12:00 a 13:45 hs. \nPara participar\, ingresar al siguiente link:\n https://us02web.zoom.us/j/87467996545?pwd=dSt3dEZNREFrbUZDcmJ2ampYcWFHUT09 \n ID de reunión: 874 6799 6545\n Código de acceso: 534875 \n– ACTIVIDAD ABIERTA A LA COMUNIDAD por ZOOM
URL:https://aappg.org/event/ciclo-cientifico-pensando-lo-vincular-fundamentos-filosoficos-de-la-vincularidad-william-james-henri-bergson-gabriel-tarde/
ATTACH;FMTTYPE=image/jpeg:https://aappg.org/wp-content/uploads/2024/04/PLV_03-05-24.jpg
END:VEVENT
END:VCALENDAR