BEGIN:VCALENDAR
VERSION:2.0
PRODID:-//AAPPG - ECPv6.15.20//NONSGML v1.0//EN
CALSCALE:GREGORIAN
METHOD:PUBLISH
X-ORIGINAL-URL:https://aappg.org
X-WR-CALDESC:Eventos para AAPPG
REFRESH-INTERVAL;VALUE=DURATION:PT1H
X-Robots-Tag:noindex
X-PUBLISHED-TTL:PT1H
BEGIN:VTIMEZONE
TZID:America/Argentina/Buenos_Aires
BEGIN:STANDARD
TZOFFSETFROM:-0300
TZOFFSETTO:-0300
TZNAME:-03
DTSTART:20230101T000000
END:STANDARD
END:VTIMEZONE
BEGIN:VEVENT
DTSTART;TZID=America/Argentina/Buenos_Aires:20240920T120000
DTEND;TZID=America/Argentina/Buenos_Aires:20240920T134500
DTSTAMP:20260422T202220
CREATED:20240912T163720Z
LAST-MODIFIED:20250424T142638Z
UID:13036-1726833600-1726839900@aappg.org
SUMMARY:Ciclo Científico pensando lo Vincular: "Producción de subjetividades en los mundos interconectados"
DESCRIPTION:CICLO CIENTÍFICO PENSANDO LO VINCULAR\n«Producción de subjetividades en los mundos interconectados» \nPresentación: Diego Sztulwark y Graciela Ventrici\nCoordinación: Vicky Cohen\n \nAGENDAR: Viernes 20 de septiembre de 12:00 a 13:45 hs. \nPara participar\, ingresar al siguiente link:\n https://us02web.zoom.us/j/82692012417?pwd=9hl95IE4yxzDNnJIbeUf7ZhCHOJrav.1 \n ID de reunión: 826 9201 2417\n Código de acceso: 331640 \n– ACTIVIDAD ABIERTA A LA COMUNIDAD por ZOOM
URL:https://aappg.org/event/ciclo-cintifico-pensando-lo-vincular-produccion-de-subjetividades-en-los-mundos-interconectados/
ATTACH;FMTTYPE=image/jpeg:https://aappg.org/wp-content/uploads/2024/09/PLV_20-09-24.jpg
END:VEVENT
END:VCALENDAR