BEGIN:VCALENDAR
VERSION:2.0
PRODID:-//AAPPG - ECPv6.15.20//NONSGML v1.0//EN
CALSCALE:GREGORIAN
METHOD:PUBLISH
X-WR-CALNAME:AAPPG
X-ORIGINAL-URL:https://aappg.org
X-WR-CALDESC:Eventos para AAPPG
REFRESH-INTERVAL;VALUE=DURATION:PT1H
X-Robots-Tag:noindex
X-PUBLISHED-TTL:PT1H
BEGIN:VTIMEZONE
TZID:America/Argentina/Buenos_Aires
BEGIN:STANDARD
TZOFFSETFROM:-0300
TZOFFSETTO:-0300
TZNAME:-03
DTSTART:20250101T000000
END:STANDARD
END:VTIMEZONE
BEGIN:VEVENT
DTSTART;TZID=America/Argentina/Buenos_Aires:20260415T120000
DTEND;TZID=America/Argentina/Buenos_Aires:20260722T150000
DTSTAMP:20260424T220643
CREATED:20260108T152235Z
LAST-MODIFIED:20260210T140325Z
UID:14514-1776254400-1784732400@aappg.org
SUMMARY:Curso de Posgrado Virtual UBA-AAPPG: “Psicoanálisis Vincular con Perspectiva de Género”
DESCRIPTION:Curso de Posgrado Virtual : “Psicoanálisis Vincular con Perspectiva de Género”. Parejas Abiertas – Lo familiar – Escenarios violentos – Problemáticas en Educación \n  \n Inicia: Miércoles 15 de Abril de 2026 \n De 12.00 a 15.00 (hora Argentina)\n Frecuencia quincenal – 8 Encuentros\n Modalidad virtual\n Docente Responsable: Nélida Di Rienzo\n Cuerpo Docente: Dr. Pablo Farneda – Lic. Leila Heer – Lic. Dolores Sarobe – Lic. Marina Guiter – Lic. Diana Blumenthal – Lic. Elena Berlfein – Lic. Gloria Barros – Lic. Claudia Abalos – Lic. Susana Matus – Lic. Analía Pesl – Lic. Alejandra Tortorelli\n Actividad dentro del Convenio UBA-AAPPG \n Información e Inscripción: docencia@aappg.org.ar
URL:https://aappg.org/event/curso-de-posgrado-virtual-uba-aappg-psicoanalisis-vincular-con-perspectiva-de-genero/
ATTACH;FMTTYPE=image/jpeg:https://aappg.org/wp-content/uploads/2026/02/Posgrado_UBA_2026_2.jpg
END:VEVENT
BEGIN:VEVENT
DTSTART;TZID=America/Argentina/Buenos_Aires:20260424T140000
DTEND;TZID=America/Argentina/Buenos_Aires:20260424T203000
DTSTAMP:20260424T220643
CREATED:20260108T154106Z
LAST-MODIFIED:20260209T145011Z
UID:14523-1777039200-1777062600@aappg.org
SUMMARY:Diplomatura en Perspectiva Vincular en Educación (AAPPG-UCES)
DESCRIPTION:Diplomatura en Perspectiva Vincular en Educación\nEn 2026 inicia nuevamente esta especialización que aborda a la educación desde un entramado de vínculos e instituciones y que cuenta con acreditación universitaria a través de la @UniversidadUCES. \n  \n Inicia: Viernes 24 de Abril de 2026 \n Se cursa: 1 vez al mes – Los 4tos viernes y sábados\nHorarios: Viernes de 14:00 a 20:30 hs. – Sábados de⠀9:00 a 12:00 hs.\n Duración: 1 Año\nModalidad: VIRTUAL⠀\n Dirección: Andrea Razzetti – Gretta Brophy⠀ \nConsultas e Inscripción en  docencia@aappg.org.ar⠀
URL:https://aappg.org/event/diplomatura-en-perspectiva-vincular-en-educacion-aappg-uces/
ATTACH;FMTTYPE=image/jpeg:https://aappg.org/wp-content/uploads/2026/02/Diplo_Educacion_2026_2.jpg
END:VEVENT
END:VCALENDAR